BEGIN:VCALENDAR
VERSION:2.0
PRODID:-//Adeland Fun - ECPv6.15.20//NONSGML v1.0//EN
CALSCALE:GREGORIAN
METHOD:PUBLISH
X-ORIGINAL-URL:https://adelandfun.ro
X-WR-CALDESC:Evenimente pentru Adeland Fun
REFRESH-INTERVAL;VALUE=DURATION:PT1H
X-Robots-Tag:noindex
X-PUBLISHED-TTL:PT1H
BEGIN:VTIMEZONE
TZID:UTC
BEGIN:STANDARD
TZOFFSETFROM:+0000
TZOFFSETTO:+0000
TZNAME:UTC
DTSTART:20240101T000000
END:STANDARD
END:VTIMEZONE
BEGIN:VEVENT
DTSTART;TZID=UTC:20250804T173000
DTEND;TZID=UTC:20250804T203000
DTSTAMP:20260423T223155
CREATED:20250715T074049Z
LAST-MODIFIED:20250715T074049Z
UID:1274-1754328600-1754339400@adelandfun.ro
SUMMARY:PETRECERE PRIVATĂ
DESCRIPTION:
URL:https://adelandfun.ro/event/petrecere-privata-241/
END:VEVENT
END:VCALENDAR