BEGIN:VCALENDAR
VERSION:2.0
PRODID:-//Adeland Fun - ECPv6.15.20//NONSGML v1.0//EN
CALSCALE:GREGORIAN
METHOD:PUBLISH
X-ORIGINAL-URL:https://adelandfun.ro
X-WR-CALDESC:Evenimente pentru Adeland Fun
REFRESH-INTERVAL;VALUE=DURATION:PT1H
X-Robots-Tag:noindex
X-PUBLISHED-TTL:PT1H
BEGIN:VTIMEZONE
TZID:UTC
BEGIN:STANDARD
TZOFFSETFROM:+0000
TZOFFSETTO:+0000
TZNAME:UTC
DTSTART:20240101T000000
END:STANDARD
END:VTIMEZONE
BEGIN:VEVENT
DTSTART;VALUE=DATE:20250819
DTEND;VALUE=DATE:20250820
DTSTAMP:20260423T223200
CREATED:20250808T105542Z
LAST-MODIFIED:20250808T105542Z
UID:1320-1755561600-1755647999@adelandfun.ro
SUMMARY:PETRECERE PRIVATĂ
DESCRIPTION:
URL:https://adelandfun.ro/event/petrecere-privata-261/
END:VEVENT
END:VCALENDAR