BEGIN:VCALENDAR
VERSION:2.0
PRODID:-//Adeland Fun - ECPv6.15.20//NONSGML v1.0//EN
CALSCALE:GREGORIAN
METHOD:PUBLISH
X-WR-CALNAME:Adeland Fun
X-ORIGINAL-URL:https://adelandfun.ro
X-WR-CALDESC:Evenimente pentru Adeland Fun
REFRESH-INTERVAL;VALUE=DURATION:PT1H
X-Robots-Tag:noindex
X-PUBLISHED-TTL:PT1H
BEGIN:VTIMEZONE
TZID:UTC
BEGIN:STANDARD
TZOFFSETFROM:+0000
TZOFFSETTO:+0000
TZNAME:UTC
DTSTART:20240101T000000
END:STANDARD
END:VTIMEZONE
BEGIN:VEVENT
DTSTART;TZID=UTC:20250920T140000
DTEND;TZID=UTC:20250920T170000
DTSTAMP:20260424T001612
CREATED:20250808T105704Z
LAST-MODIFIED:20250808T105704Z
UID:1322-1758376800-1758387600@adelandfun.ro
SUMMARY:PETRECERE PRIVATĂ
DESCRIPTION:
URL:https://adelandfun.ro/event/petrecere-privata-262/
END:VEVENT
BEGIN:VEVENT
DTSTART;TZID=UTC:20250920T180000
DTEND;TZID=UTC:20250920T210000
DTSTAMP:20260424T001612
CREATED:20250901T103448Z
LAST-MODIFIED:20250906T140924Z
UID:1348-1758391200-1758402000@adelandfun.ro
SUMMARY:PETRECERE PRIVATĂ
DESCRIPTION:
URL:https://adelandfun.ro/event/petrecere-privata-272/
END:VEVENT
END:VCALENDAR