BEGIN:VCALENDAR
VERSION:2.0
PRODID:-//Adeland Fun - ECPv6.15.20//NONSGML v1.0//EN
CALSCALE:GREGORIAN
METHOD:PUBLISH
X-WR-CALNAME:Adeland Fun
X-ORIGINAL-URL:https://adelandfun.ro
X-WR-CALDESC:Evenimente pentru Adeland Fun
REFRESH-INTERVAL;VALUE=DURATION:PT1H
X-Robots-Tag:noindex
X-PUBLISHED-TTL:PT1H
BEGIN:VTIMEZONE
TZID:UTC
BEGIN:STANDARD
TZOFFSETFROM:+0000
TZOFFSETTO:+0000
TZNAME:UTC
DTSTART:20240101T000000
END:STANDARD
END:VTIMEZONE
BEGIN:VEVENT
DTSTART;TZID=UTC:20251024T180000
DTEND;TZID=UTC:20251024T210000
DTSTAMP:20260424T034930
CREATED:20250903T144204Z
LAST-MODIFIED:20250903T144204Z
UID:1365-1761328800-1761339600@adelandfun.ro
SUMMARY:PETRECERE PRIVATĂ
DESCRIPTION:
URL:https://adelandfun.ro/event/petrecere-privata-280/
END:VEVENT
BEGIN:VEVENT
DTSTART;TZID=UTC:20251025T100000
DTEND;TZID=UTC:20251025T130000
DTSTAMP:20260424T034930
CREATED:20251008T141819Z
LAST-MODIFIED:20251008T141819Z
UID:1496-1761386400-1761397200@adelandfun.ro
SUMMARY:PETRECERE PRIVATĂ
DESCRIPTION:
URL:https://adelandfun.ro/event/petrecere-privata-329/
END:VEVENT
BEGIN:VEVENT
DTSTART;TZID=UTC:20251025T140000
DTEND;TZID=UTC:20251025T170000
DTSTAMP:20260424T034930
CREATED:20250916T081949Z
LAST-MODIFIED:20250916T081949Z
UID:1404-1761400800-1761411600@adelandfun.ro
SUMMARY:PETRECERE PRIVATĂ
DESCRIPTION:
URL:https://adelandfun.ro/event/petrecere-privata-296/
END:VEVENT
BEGIN:VEVENT
DTSTART;TZID=UTC:20251025T180000
DTEND;TZID=UTC:20251025T210000
DTSTAMP:20260424T034930
CREATED:20251009T115608Z
LAST-MODIFIED:20251009T115608Z
UID:1504-1761415200-1761426000@adelandfun.ro
SUMMARY:PETRECERE PRIVATĂ
DESCRIPTION:
URL:https://adelandfun.ro/event/petrecere-privata-332/
END:VEVENT
BEGIN:VEVENT
DTSTART;TZID=UTC:20251026T100000
DTEND;TZID=UTC:20251026T130000
DTSTAMP:20260424T034930
CREATED:20251016T095656Z
LAST-MODIFIED:20251016T095656Z
UID:1521-1761472800-1761483600@adelandfun.ro
SUMMARY:PETRECERE PRIVATĂ
DESCRIPTION:
URL:https://adelandfun.ro/event/petrecere-privata-339/
END:VEVENT
BEGIN:VEVENT
DTSTART;TZID=UTC:20251026T140000
DTEND;TZID=UTC:20251026T170000
DTSTAMP:20260424T034930
CREATED:20251010T081636Z
LAST-MODIFIED:20251010T081636Z
UID:1509-1761487200-1761498000@adelandfun.ro
SUMMARY:PETRECERE PRIVATĂ
DESCRIPTION:
URL:https://adelandfun.ro/event/petrecere-privata-334/
END:VEVENT
BEGIN:VEVENT
DTSTART;TZID=UTC:20251026T180000
DTEND;TZID=UTC:20251026T210000
DTSTAMP:20260424T034930
CREATED:20251013T094304Z
LAST-MODIFIED:20251013T094304Z
UID:1515-1761501600-1761512400@adelandfun.ro
SUMMARY:PETRECERE PRIVATĂ
DESCRIPTION:
URL:https://adelandfun.ro/event/petrecere-privata-336/
END:VEVENT
BEGIN:VEVENT
DTSTART;TZID=UTC:20251027T173000
DTEND;TZID=UTC:20251027T203000
DTSTAMP:20260424T034930
CREATED:20250926T105430Z
LAST-MODIFIED:20250926T105430Z
UID:1440-1761586200-1761597000@adelandfun.ro
SUMMARY:PETRECERE PRIVATĂ
DESCRIPTION:
URL:https://adelandfun.ro/event/petrecere-privata-311/
END:VEVENT
BEGIN:VEVENT
DTSTART;TZID=UTC:20251030T180000
DTEND;TZID=UTC:20251030T210000
DTSTAMP:20260424T034930
CREATED:20251004T113028Z
LAST-MODIFIED:20251004T113028Z
UID:1463-1761847200-1761858000@adelandfun.ro
SUMMARY:PETRECERE PRIVATĂ
DESCRIPTION:
URL:https://adelandfun.ro/event/petrecere-privata-322/
END:VEVENT
BEGIN:VEVENT
DTSTART;TZID=UTC:20251031T180000
DTEND;TZID=UTC:20251031T210000
DTSTAMP:20260424T034930
CREATED:20251004T113145Z
LAST-MODIFIED:20251004T113145Z
UID:1465-1761933600-1761944400@adelandfun.ro
SUMMARY:PETRECERE PRIVATĂ
DESCRIPTION:
URL:https://adelandfun.ro/event/petrecere-privata-323/
END:VEVENT
BEGIN:VEVENT
DTSTART;TZID=UTC:20251101T100000
DTEND;TZID=UTC:20251101T130000
DTSTAMP:20260424T034930
CREATED:20251011T092008Z
LAST-MODIFIED:20251011T092008Z
UID:1511-1761991200-1762002000@adelandfun.ro
SUMMARY:PETRECERE PRIVATĂ
DESCRIPTION:
URL:https://adelandfun.ro/event/petrecere-privata-335/
END:VEVENT
BEGIN:VEVENT
DTSTART;TZID=UTC:20251101T180000
DTEND;TZID=UTC:20251101T210000
DTSTAMP:20260424T034930
CREATED:20251019T085841Z
LAST-MODIFIED:20251019T085841Z
UID:1534-1762020000-1762030800@adelandfun.ro
SUMMARY:PETRECERE PRIVATĂ
DESCRIPTION:
URL:https://adelandfun.ro/event/petrecere-privata-345/
END:VEVENT
BEGIN:VEVENT
DTSTART;TZID=UTC:20251102T100000
DTEND;TZID=UTC:20251102T130000
DTSTAMP:20260424T034930
CREATED:20251002T154048Z
LAST-MODIFIED:20251002T154048Z
UID:1457-1762077600-1762088400@adelandfun.ro
SUMMARY:PETRECERE PRIVATĂ
DESCRIPTION:
URL:https://adelandfun.ro/event/petrecere-privata-319/
END:VEVENT
BEGIN:VEVENT
DTSTART;TZID=UTC:20251102T140000
DTEND;TZID=UTC:20251102T170000
DTSTAMP:20260424T034930
CREATED:20251016T095809Z
LAST-MODIFIED:20251016T095809Z
UID:1523-1762092000-1762102800@adelandfun.ro
SUMMARY:PETRECERE PRIVATĂ
DESCRIPTION:
URL:https://adelandfun.ro/event/petrecere-privata-340/
END:VEVENT
BEGIN:VEVENT
DTSTART;TZID=UTC:20251103T173000
DTEND;TZID=UTC:20251103T203000
DTSTAMP:20260424T034930
CREATED:20250922T164447Z
LAST-MODIFIED:20250922T164447Z
UID:1421-1762191000-1762201800@adelandfun.ro
SUMMARY:PETRECERE PRIVATĂ
DESCRIPTION:
URL:https://adelandfun.ro/event/petrecere-privata-303/
END:VEVENT
BEGIN:VEVENT
DTSTART;TZID=UTC:20251106T173000
DTEND;TZID=UTC:20251106T203000
DTSTAMP:20260424T034930
CREATED:20251023T144243Z
LAST-MODIFIED:20251023T144243Z
UID:1544-1762450200-1762461000@adelandfun.ro
SUMMARY:PETRECERE PRIVATĂ
DESCRIPTION:
URL:https://adelandfun.ro/event/petrecere-privata-350/
END:VEVENT
BEGIN:VEVENT
DTSTART;TZID=UTC:20251107T180000
DTEND;TZID=UTC:20251107T210000
DTSTAMP:20260424T034930
CREATED:20251013T120635Z
LAST-MODIFIED:20251013T120635Z
UID:1519-1762538400-1762549200@adelandfun.ro
SUMMARY:PETRECERE PRIVATĂ
DESCRIPTION:
URL:https://adelandfun.ro/event/petrecere-privata-338/
END:VEVENT
BEGIN:VEVENT
DTSTART;TZID=UTC:20251108T100000
DTEND;TZID=UTC:20251108T130000
DTSTAMP:20260424T034930
CREATED:20251016T095954Z
LAST-MODIFIED:20251016T095954Z
UID:1525-1762596000-1762606800@adelandfun.ro
SUMMARY:PETRECERE PRIVATĂ
DESCRIPTION:
URL:https://adelandfun.ro/event/petrecere-privata-341/
END:VEVENT
BEGIN:VEVENT
DTSTART;TZID=UTC:20251108T140000
DTEND;TZID=UTC:20251108T170000
DTSTAMP:20260424T034930
CREATED:20250927T091746Z
LAST-MODIFIED:20250927T091746Z
UID:1446-1762610400-1762621200@adelandfun.ro
SUMMARY:PETRECERE PRIVATĂ
DESCRIPTION:
URL:https://adelandfun.ro/event/petrecere-privata-314/
END:VEVENT
BEGIN:VEVENT
DTSTART;TZID=UTC:20251108T180000
DTEND;TZID=UTC:20251108T210000
DTSTAMP:20260424T034930
CREATED:20250916T104323Z
LAST-MODIFIED:20250916T104323Z
UID:1406-1762624800-1762635600@adelandfun.ro
SUMMARY:PETRECERE PRIVATĂ
DESCRIPTION:
URL:https://adelandfun.ro/event/petrecere-privata-297/
END:VEVENT
BEGIN:VEVENT
DTSTART;TZID=UTC:20251109T140000
DTEND;TZID=UTC:20251109T170000
DTSTAMP:20260424T034930
CREATED:20251005T160209Z
LAST-MODIFIED:20251005T160209Z
UID:1484-1762696800-1762707600@adelandfun.ro
SUMMARY:PETRECERE PRIVATĂ
DESCRIPTION:
URL:https://adelandfun.ro/event/petrecere-privata-324/
END:VEVENT
BEGIN:VEVENT
DTSTART;TZID=UTC:20251109T180000
DTEND;TZID=UTC:20251109T210000
DTSTAMP:20260424T034930
CREATED:20251022T155945Z
LAST-MODIFIED:20251022T155945Z
UID:1540-1762711200-1762722000@adelandfun.ro
SUMMARY:PETRECERE PRIVATĂ
DESCRIPTION:
URL:https://adelandfun.ro/event/petrecere-privata-348/
END:VEVENT
BEGIN:VEVENT
DTSTART;TZID=UTC:20251110T173000
DTEND;TZID=UTC:20251110T203000
DTSTAMP:20260424T034930
CREATED:20251103T183816Z
LAST-MODIFIED:20251103T183816Z
UID:1569-1762795800-1762806600@adelandfun.ro
SUMMARY:PETRECERE PRIVATĂ
DESCRIPTION:
URL:https://adelandfun.ro/event/petrecere-privata-361/
END:VEVENT
BEGIN:VEVENT
DTSTART;TZID=UTC:20251113T170000
DTEND;TZID=UTC:20251113T200000
DTSTAMP:20260424T034930
CREATED:20251026T122834Z
LAST-MODIFIED:20251026T122834Z
UID:1547-1763053200-1763064000@adelandfun.ro
SUMMARY:PETRECERE PRIVATĂ
DESCRIPTION:
URL:https://adelandfun.ro/event/petrecere-privata-351/
END:VEVENT
BEGIN:VEVENT
DTSTART;TZID=UTC:20251114T173000
DTEND;TZID=UTC:20251114T203000
DTSTAMP:20260424T034930
CREATED:20251007T101941Z
LAST-MODIFIED:20251007T101941Z
UID:1490-1763141400-1763152200@adelandfun.ro
SUMMARY:PETRECERE PRIVATĂ
DESCRIPTION:
URL:https://adelandfun.ro/event/petrecere-privata-326/
END:VEVENT
BEGIN:VEVENT
DTSTART;TZID=UTC:20251115T100000
DTEND;TZID=UTC:20251115T130000
DTSTAMP:20260424T034930
CREATED:20251018T123056Z
LAST-MODIFIED:20251018T123056Z
UID:1532-1763200800-1763211600@adelandfun.ro
SUMMARY:PETRECERE PRIVATĂ
DESCRIPTION:
URL:https://adelandfun.ro/event/petrecere-privata-344/
END:VEVENT
BEGIN:VEVENT
DTSTART;TZID=UTC:20251115T140000
DTEND;TZID=UTC:20251115T170000
DTSTAMP:20260424T034930
CREATED:20251008T141940Z
LAST-MODIFIED:20251008T141940Z
UID:1499-1763215200-1763226000@adelandfun.ro
SUMMARY:PETRECERE PRIVATĂ
DESCRIPTION:
URL:https://adelandfun.ro/event/petrecere-privata-330/
END:VEVENT
BEGIN:VEVENT
DTSTART;TZID=UTC:20251115T180000
DTEND;TZID=UTC:20251115T210000
DTSTAMP:20260424T034930
CREATED:20250915T103658Z
LAST-MODIFIED:20250915T103658Z
UID:1391-1763229600-1763240400@adelandfun.ro
SUMMARY:PETRECERE PRIVATĂ
DESCRIPTION:
URL:https://adelandfun.ro/event/petrecere-privata-291/
END:VEVENT
BEGIN:VEVENT
DTSTART;TZID=UTC:20251116T100000
DTEND;TZID=UTC:20251116T130000
DTSTAMP:20260424T034930
CREATED:20251020T071459Z
LAST-MODIFIED:20251020T071459Z
UID:1538-1763287200-1763298000@adelandfun.ro
SUMMARY:PETRECERE PRIVATĂ
DESCRIPTION:
URL:https://adelandfun.ro/event/petrecere-privata-347/
END:VEVENT
BEGIN:VEVENT
DTSTART;TZID=UTC:20251116T140000
DTEND;TZID=UTC:20251116T170000
DTSTAMP:20260424T034930
CREATED:20251019T090008Z
LAST-MODIFIED:20251019T090008Z
UID:1536-1763301600-1763312400@adelandfun.ro
SUMMARY:PETRECERE PRIVATĂ
DESCRIPTION:
URL:https://adelandfun.ro/event/petrecere-privata-346/
END:VEVENT
END:VCALENDAR