BEGIN:VCALENDAR
VERSION:2.0
PRODID:-//Adeland Fun - ECPv6.15.20//NONSGML v1.0//EN
CALSCALE:GREGORIAN
METHOD:PUBLISH
X-WR-CALNAME:Adeland Fun
X-ORIGINAL-URL:https://adelandfun.ro
X-WR-CALDESC:Evenimente pentru Adeland Fun
REFRESH-INTERVAL;VALUE=DURATION:PT1H
X-Robots-Tag:noindex
X-PUBLISHED-TTL:PT1H
BEGIN:VTIMEZONE
TZID:UTC
BEGIN:STANDARD
TZOFFSETFROM:+0000
TZOFFSETTO:+0000
TZNAME:UTC
DTSTART:20240101T000000
END:STANDARD
END:VTIMEZONE
BEGIN:VEVENT
DTSTART;TZID=UTC:20251125T173000
DTEND;TZID=UTC:20251125T203000
DTSTAMP:20260424T055614
CREATED:20251112T131022Z
LAST-MODIFIED:20251112T131022Z
UID:1602-1764091800-1764102600@adelandfun.ro
SUMMARY:PETRECERE PRIVATĂ
DESCRIPTION:
URL:https://adelandfun.ro/event/petrecere-privata-377/
END:VEVENT
BEGIN:VEVENT
DTSTART;TZID=UTC:20251126T173000
DTEND;TZID=UTC:20251126T203000
DTSTAMP:20260424T055614
CREATED:20250924T154825Z
LAST-MODIFIED:20250924T154825Z
UID:1434-1764178200-1764189000@adelandfun.ro
SUMMARY:PETRECERE PRIVATĂ
DESCRIPTION:
URL:https://adelandfun.ro/event/petrecere-privata-309/
END:VEVENT
BEGIN:VEVENT
DTSTART;TZID=UTC:20251127T173000
DTEND;TZID=UTC:20251127T203000
DTSTAMP:20260424T055614
CREATED:20251007T101750Z
LAST-MODIFIED:20251007T101750Z
UID:1488-1764264600-1764275400@adelandfun.ro
SUMMARY:PETRECERE PRIVATĂ
DESCRIPTION:
URL:https://adelandfun.ro/event/petrecere-privata-321/
END:VEVENT
BEGIN:VEVENT
DTSTART;TZID=UTC:20251128T173000
DTEND;TZID=UTC:20251128T203000
DTSTAMP:20260424T055614
CREATED:20251009T103712Z
LAST-MODIFIED:20251009T103712Z
UID:1502-1764351000-1764361800@adelandfun.ro
SUMMARY:PETRECERE PRIVATĂ
DESCRIPTION:
URL:https://adelandfun.ro/event/petrecere-privata-331/
END:VEVENT
BEGIN:VEVENT
DTSTART;TZID=UTC:20251129T100000
DTEND;TZID=UTC:20251129T130000
DTSTAMP:20260424T055614
CREATED:20251027T130246Z
LAST-MODIFIED:20251027T130246Z
UID:1549-1764410400-1764421200@adelandfun.ro
SUMMARY:PETRECERE PRIVATĂ
DESCRIPTION:
URL:https://adelandfun.ro/event/petrecere-privata-352/
END:VEVENT
BEGIN:VEVENT
DTSTART;TZID=UTC:20251129T140000
DTEND;TZID=UTC:20251129T170000
DTSTAMP:20260424T055614
CREATED:20251006T142930Z
LAST-MODIFIED:20251006T142930Z
UID:1486-1764424800-1764435600@adelandfun.ro
SUMMARY:PETRECERE PRIVATĂ
DESCRIPTION:
URL:https://adelandfun.ro/event/petrecere-privata-325/
END:VEVENT
BEGIN:VEVENT
DTSTART;TZID=UTC:20251129T180000
DTEND;TZID=UTC:20251129T210000
DTSTAMP:20260424T055614
CREATED:20251119T102534Z
LAST-MODIFIED:20251119T102534Z
UID:1631-1764439200-1764450000@adelandfun.ro
SUMMARY:PETRECERE PRIVATĂ
DESCRIPTION:
URL:https://adelandfun.ro/event/petrecere-privata-385/
END:VEVENT
BEGIN:VEVENT
DTSTART;TZID=UTC:20251130T100000
DTEND;TZID=UTC:20251130T130000
DTSTAMP:20260424T055614
CREATED:20251104T150425Z
LAST-MODIFIED:20251104T150425Z
UID:1573-1764496800-1764507600@adelandfun.ro
SUMMARY:PETRECERE PRIVATĂ
DESCRIPTION:
URL:https://adelandfun.ro/event/petrecere-privata-363/
END:VEVENT
BEGIN:VEVENT
DTSTART;TZID=UTC:20251130T140000
DTEND;TZID=UTC:20251130T170000
DTSTAMP:20260424T055614
CREATED:20251028T101133Z
LAST-MODIFIED:20251028T101133Z
UID:1553-1764511200-1764522000@adelandfun.ro
SUMMARY:PETRECERE PRIVATĂ
DESCRIPTION:
URL:https://adelandfun.ro/event/petrecere-privata-354/
END:VEVENT
BEGIN:VEVENT
DTSTART;TZID=UTC:20251130T180000
DTEND;TZID=UTC:20251130T210000
DTSTAMP:20260424T055614
CREATED:20251029T131253Z
LAST-MODIFIED:20251029T131253Z
UID:1555-1764525600-1764536400@adelandfun.ro
SUMMARY:PETRECERE PRIVATĂ
DESCRIPTION:
URL:https://adelandfun.ro/event/petrecere-privata-355/
END:VEVENT
BEGIN:VEVENT
DTSTART;TZID=UTC:20251201T170000
DTEND;TZID=UTC:20251201T200000
DTSTAMP:20260424T055614
CREATED:20251022T160215Z
LAST-MODIFIED:20251022T160215Z
UID:1542-1764608400-1764619200@adelandfun.ro
SUMMARY:PETRECERE PRIVATĂ
DESCRIPTION:
URL:https://adelandfun.ro/event/petrecere-privata-349/
END:VEVENT
BEGIN:VEVENT
DTSTART;TZID=UTC:20251202T173000
DTEND;TZID=UTC:20251202T203000
DTSTAMP:20260424T055614
CREATED:20251117T083547Z
LAST-MODIFIED:20251117T083547Z
UID:1627-1764696600-1764707400@adelandfun.ro
SUMMARY:PETRECERE PRIVATĂ
DESCRIPTION:
URL:https://adelandfun.ro/event/petrecere-privata-383/
END:VEVENT
BEGIN:VEVENT
DTSTART;TZID=UTC:20251203T173000
DTEND;TZID=UTC:20251203T203000
DTSTAMP:20260424T055614
CREATED:20251112T131128Z
LAST-MODIFIED:20251112T131128Z
UID:1604-1764783000-1764793800@adelandfun.ro
SUMMARY:PETRECERE PRIVATĂ
DESCRIPTION:
URL:https://adelandfun.ro/event/petrecere-privata-378/
END:VEVENT
BEGIN:VEVENT
DTSTART;TZID=UTC:20251205T173000
DTEND;TZID=UTC:20251205T203000
DTSTAMP:20260424T055614
CREATED:20251112T131220Z
LAST-MODIFIED:20251112T131220Z
UID:1606-1764955800-1764966600@adelandfun.ro
SUMMARY:PETRECERE PRIVATĂ
DESCRIPTION:
URL:https://adelandfun.ro/event/petrecere-privata-379/
END:VEVENT
BEGIN:VEVENT
DTSTART;TZID=UTC:20251206T100000
DTEND;TZID=UTC:20251206T130000
DTSTAMP:20260424T055614
CREATED:20251129T135348Z
LAST-MODIFIED:20251129T135348Z
UID:1645-1765015200-1765026000@adelandfun.ro
SUMMARY:PETRECERE PRIVATĂ
DESCRIPTION:
URL:https://adelandfun.ro/event/petrecere-privata-391/
END:VEVENT
BEGIN:VEVENT
DTSTART;TZID=UTC:20251206T140000
DTEND;TZID=UTC:20251206T170000
DTSTAMP:20260424T055614
CREATED:20251112T083019Z
LAST-MODIFIED:20251112T083019Z
UID:1596-1765029600-1765040400@adelandfun.ro
SUMMARY:PETRECERE PRIVATĂ
DESCRIPTION:
URL:https://adelandfun.ro/event/petrecere-privata-374/
END:VEVENT
BEGIN:VEVENT
DTSTART;TZID=UTC:20251206T180000
DTEND;TZID=UTC:20251206T210000
DTSTAMP:20260424T055614
CREATED:20250929T105123Z
LAST-MODIFIED:20250929T105123Z
UID:1450-1765044000-1765054800@adelandfun.ro
SUMMARY:PETRECERE PRIVATĂ
DESCRIPTION:
URL:https://adelandfun.ro/event/petrecere-privata-316/
END:VEVENT
BEGIN:VEVENT
DTSTART;TZID=UTC:20251207T140000
DTEND;TZID=UTC:20251207T170000
DTSTAMP:20260424T055614
CREATED:20250904T085735Z
LAST-MODIFIED:20250904T085735Z
UID:1369-1765116000-1765126800@adelandfun.ro
SUMMARY:PETRECERE PRIVATĂ
DESCRIPTION:
URL:https://adelandfun.ro/event/petrecere-privata-282/
END:VEVENT
BEGIN:VEVENT
DTSTART;TZID=UTC:20251207T180000
DTEND;TZID=UTC:20251207T210000
DTSTAMP:20260424T055614
CREATED:20251101T142632Z
LAST-MODIFIED:20251101T142632Z
UID:1559-1765130400-1765141200@adelandfun.ro
SUMMARY:PETRECERE PRIVATĂ
DESCRIPTION:
URL:https://adelandfun.ro/event/petrecere-privata-357/
END:VEVENT
BEGIN:VEVENT
DTSTART;TZID=UTC:20251208T173000
DTEND;TZID=UTC:20251208T203000
DTSTAMP:20260424T055614
CREATED:20251129T071912Z
LAST-MODIFIED:20251129T071912Z
UID:1643-1765215000-1765225800@adelandfun.ro
SUMMARY:PETRECERE PRIVATĂ
DESCRIPTION:
URL:https://adelandfun.ro/event/petrecere-privata-390/
END:VEVENT
BEGIN:VEVENT
DTSTART;TZID=UTC:20251209T173000
DTEND;TZID=UTC:20251209T203000
DTSTAMP:20260424T055614
CREATED:20251112T083123Z
LAST-MODIFIED:20251112T083123Z
UID:1598-1765301400-1765312200@adelandfun.ro
SUMMARY:PETRECERE PRIVATĂ
DESCRIPTION:
URL:https://adelandfun.ro/event/petrecere-privata-375/
END:VEVENT
BEGIN:VEVENT
DTSTART;TZID=UTC:20251210T170000
DTEND;TZID=UTC:20251210T200000
DTSTAMP:20260424T055614
CREATED:20251207T134811Z
LAST-MODIFIED:20251207T134811Z
UID:1656-1765386000-1765396800@adelandfun.ro
SUMMARY:PETRECERE PRIVATĂ
DESCRIPTION:
URL:https://adelandfun.ro/event/petrecere-privata-395/
END:VEVENT
BEGIN:VEVENT
DTSTART;TZID=UTC:20251211T173000
DTEND;TZID=UTC:20251211T203000
DTSTAMP:20260424T055614
CREATED:20251110T110003Z
LAST-MODIFIED:20251110T110003Z
UID:1587-1765474200-1765485000@adelandfun.ro
SUMMARY:PETRECERE PRIVATĂ
DESCRIPTION:
URL:https://adelandfun.ro/event/petrecere-privata-370/
END:VEVENT
BEGIN:VEVENT
DTSTART;TZID=UTC:20251212T173000
DTEND;TZID=UTC:20251212T203000
DTSTAMP:20260424T055614
CREATED:20250916T104551Z
LAST-MODIFIED:20250916T104551Z
UID:1408-1765560600-1765571400@adelandfun.ro
SUMMARY:PETRECERE PRIVATĂ
DESCRIPTION:
URL:https://adelandfun.ro/event/petrecere-privata-298/
END:VEVENT
BEGIN:VEVENT
DTSTART;TZID=UTC:20251213T100000
DTEND;TZID=UTC:20251213T130000
DTSTAMP:20260424T055614
CREATED:20251105T172131Z
LAST-MODIFIED:20251105T172131Z
UID:1579-1765620000-1765630800@adelandfun.ro
SUMMARY:PETRECERE PRIVATĂ
DESCRIPTION:
URL:https://adelandfun.ro/event/petrecere-privata-366/
END:VEVENT
BEGIN:VEVENT
DTSTART;TZID=UTC:20251213T140000
DTEND;TZID=UTC:20251213T170000
DTSTAMP:20260424T055614
CREATED:20251110T185242Z
LAST-MODIFIED:20251110T185242Z
UID:1591-1765634400-1765645200@adelandfun.ro
SUMMARY:PETRECERE PRIVATĂ
DESCRIPTION:
URL:https://adelandfun.ro/event/petrecere-privata-372/
END:VEVENT
BEGIN:VEVENT
DTSTART;TZID=UTC:20251213T180000
DTEND;TZID=UTC:20251213T210000
DTSTAMP:20260424T055614
CREATED:20251013T094426Z
LAST-MODIFIED:20251013T094426Z
UID:1517-1765648800-1765659600@adelandfun.ro
SUMMARY:PETRECERE PRIVATĂ
DESCRIPTION:
URL:https://adelandfun.ro/event/petrecere-privata-337/
END:VEVENT
BEGIN:VEVENT
DTSTART;TZID=UTC:20251214T100000
DTEND;TZID=UTC:20251214T130000
DTSTAMP:20260424T055614
CREATED:20251202T182142Z
LAST-MODIFIED:20251202T182142Z
UID:1651-1765706400-1765717200@adelandfun.ro
SUMMARY:PETRECERE PRIVATĂ
DESCRIPTION:
URL:https://adelandfun.ro/event/petrecere-privata-393/
END:VEVENT
BEGIN:VEVENT
DTSTART;TZID=UTC:20251214T140000
DTEND;TZID=UTC:20251214T170000
DTSTAMP:20260424T055614
CREATED:20251116T122835Z
LAST-MODIFIED:20251116T122835Z
UID:1625-1765720800-1765731600@adelandfun.ro
SUMMARY:PETRECERE PRIVATĂ
DESCRIPTION:
URL:https://adelandfun.ro/event/petrecere-privata-367/
END:VEVENT
BEGIN:VEVENT
DTSTART;TZID=UTC:20251214T180000
DTEND;TZID=UTC:20251214T210000
DTSTAMP:20260424T055614
CREATED:20251119T102639Z
LAST-MODIFIED:20251119T102639Z
UID:1633-1765735200-1765746000@adelandfun.ro
SUMMARY:PETRECERE PRIVATĂ
DESCRIPTION:
URL:https://adelandfun.ro/event/petrecere-privata-386/
END:VEVENT
END:VCALENDAR