BEGIN:VCALENDAR
VERSION:2.0
PRODID:-//Adeland Fun - ECPv6.15.20//NONSGML v1.0//EN
CALSCALE:GREGORIAN
METHOD:PUBLISH
X-ORIGINAL-URL:https://adelandfun.ro
X-WR-CALDESC:Evenimente pentru Adeland Fun
REFRESH-INTERVAL;VALUE=DURATION:PT1H
X-Robots-Tag:noindex
X-PUBLISHED-TTL:PT1H
BEGIN:VTIMEZONE
TZID:UTC
BEGIN:STANDARD
TZOFFSETFROM:+0000
TZOFFSETTO:+0000
TZNAME:UTC
DTSTART:20240101T000000
END:STANDARD
END:VTIMEZONE
BEGIN:VEVENT
DTSTART;TZID=UTC:20251011T100000
DTEND;TZID=UTC:20251011T130000
DTSTAMP:20260424T035114
CREATED:20250923T062408Z
LAST-MODIFIED:20250923T062408Z
UID:1423-1760176800-1760187600@adelandfun.ro
SUMMARY:PETRECERE PRIVATĂ
DESCRIPTION:
URL:https://adelandfun.ro/event/petrecere-privata-304/
END:VEVENT
BEGIN:VEVENT
DTSTART;TZID=UTC:20251011T140000
DTEND;TZID=UTC:20251011T170000
DTSTAMP:20260424T035114
CREATED:20250916T142234Z
LAST-MODIFIED:20250916T142234Z
UID:1410-1760191200-1760202000@adelandfun.ro
SUMMARY:PETRECERE PRIVATĂ
DESCRIPTION:
URL:https://adelandfun.ro/event/petrecere-privata-299/
END:VEVENT
BEGIN:VEVENT
DTSTART;TZID=UTC:20251011T180000
DTEND;TZID=UTC:20251011T210000
DTSTAMP:20260424T035114
CREATED:20250909T152828Z
LAST-MODIFIED:20250909T152828Z
UID:1380-1760205600-1760216400@adelandfun.ro
SUMMARY:PETRECERE PRIVATĂ
DESCRIPTION:
URL:https://adelandfun.ro/event/petrecere-privata-286/
END:VEVENT
BEGIN:VEVENT
DTSTART;TZID=UTC:20251012T100000
DTEND;TZID=UTC:20251012T130000
DTSTAMP:20260424T035114
CREATED:20250926T131052Z
LAST-MODIFIED:20250926T131052Z
UID:1442-1760263200-1760274000@adelandfun.ro
SUMMARY:PETRECERE PRIVATĂ
DESCRIPTION:
URL:https://adelandfun.ro/event/petrecere-privata-312/
END:VEVENT
BEGIN:VEVENT
DTSTART;TZID=UTC:20251012T140000
DTEND;TZID=UTC:20251012T170000
DTSTAMP:20260424T035114
CREATED:20250918T145754Z
LAST-MODIFIED:20250918T145754Z
UID:1415-1760277600-1760288400@adelandfun.ro
SUMMARY:PETRECERE PRIVATĂ
DESCRIPTION:
URL:https://adelandfun.ro/event/petrecere-privata-301/
END:VEVENT
BEGIN:VEVENT
DTSTART;TZID=UTC:20251013T180000
DTEND;TZID=UTC:20251013T210000
DTSTAMP:20260424T035114
CREATED:20251002T153938Z
LAST-MODIFIED:20251002T153938Z
UID:1455-1760378400-1760389200@adelandfun.ro
SUMMARY:PETRECERE PRIVATĂ
DESCRIPTION:
URL:https://adelandfun.ro/event/petrecere-privata-318/
END:VEVENT
BEGIN:VEVENT
DTSTART;TZID=UTC:20251016T173000
DTEND;TZID=UTC:20251016T203000
DTSTAMP:20260424T035114
CREATED:20251003T143234Z
LAST-MODIFIED:20251003T143234Z
UID:1459-1760635800-1760646600@adelandfun.ro
SUMMARY:PETRECERE PRIVATĂ
DESCRIPTION:
URL:https://adelandfun.ro/event/petrecere-privata-320/
END:VEVENT
BEGIN:VEVENT
DTSTART;TZID=UTC:20251017T180000
DTEND;TZID=UTC:20251017T210000
DTSTAMP:20260424T035114
CREATED:20251013T094157Z
LAST-MODIFIED:20251013T094157Z
UID:1513-1760724000-1760734800@adelandfun.ro
SUMMARY:PETRECERE PRIVATĂ
DESCRIPTION:
URL:https://adelandfun.ro/event/petrecere-privata-305/
END:VEVENT
BEGIN:VEVENT
DTSTART;TZID=UTC:20251018T100000
DTEND;TZID=UTC:20251018T130000
DTSTAMP:20260424T035114
CREATED:20250909T153005Z
LAST-MODIFIED:20250909T153005Z
UID:1383-1760781600-1760792400@adelandfun.ro
SUMMARY:PETRECERE PRIVATĂ
DESCRIPTION:
URL:https://adelandfun.ro/event/petrecere-privata-287/
END:VEVENT
BEGIN:VEVENT
DTSTART;TZID=UTC:20251018T140000
DTEND;TZID=UTC:20251018T170000
DTSTAMP:20260424T035114
CREATED:20250916T081306Z
LAST-MODIFIED:20250916T081306Z
UID:1396-1760796000-1760806800@adelandfun.ro
SUMMARY:PETRECERE PRIVATĂ
DESCRIPTION:
URL:https://adelandfun.ro/event/petrecere-privata-293/
END:VEVENT
BEGIN:VEVENT
DTSTART;TZID=UTC:20251018T180000
DTEND;TZID=UTC:20251018T210000
DTSTAMP:20260424T035114
CREATED:20251009T133526Z
LAST-MODIFIED:20251009T133526Z
UID:1507-1760810400-1760821200@adelandfun.ro
SUMMARY:PETRECERE PRIVATĂ
DESCRIPTION:
URL:https://adelandfun.ro/event/petrecere-privata-333/
END:VEVENT
BEGIN:VEVENT
DTSTART;TZID=UTC:20251019T140000
DTEND;TZID=UTC:20251019T170000
DTSTAMP:20260424T035114
CREATED:20250921T155420Z
LAST-MODIFIED:20250921T155420Z
UID:1419-1760882400-1760893200@adelandfun.ro
SUMMARY:PETRECERE PRIVATĂ
DESCRIPTION:
URL:https://adelandfun.ro/event/petrecere-privata-279/
END:VEVENT
BEGIN:VEVENT
DTSTART;TZID=UTC:20251019T180000
DTEND;TZID=UTC:20251019T210000
DTSTAMP:20260424T035114
CREATED:20251007T130844Z
LAST-MODIFIED:20251007T130844Z
UID:1492-1760896800-1760907600@adelandfun.ro
SUMMARY:PETRECERE PRIVATĂ
DESCRIPTION:
URL:https://adelandfun.ro/event/petrecere-privata-327/
END:VEVENT
BEGIN:VEVENT
DTSTART;TZID=UTC:20251020T170000
DTEND;TZID=UTC:20251020T200000
DTSTAMP:20260424T035114
CREATED:20250927T173509Z
LAST-MODIFIED:20250927T173509Z
UID:1448-1760979600-1760990400@adelandfun.ro
SUMMARY:PETRECERE PRIVATĂ
DESCRIPTION:
URL:https://adelandfun.ro/event/petrecere-privata-315/
END:VEVENT
BEGIN:VEVENT
DTSTART;TZID=UTC:20251022T180000
DTEND;TZID=UTC:20251022T210000
DTSTAMP:20260424T035114
CREATED:20251002T102931Z
LAST-MODIFIED:20251002T102931Z
UID:1453-1761156000-1761166800@adelandfun.ro
SUMMARY:PETRECERE PRIVATĂ
DESCRIPTION:
URL:https://adelandfun.ro/event/petrecere-privata-317/
END:VEVENT
BEGIN:VEVENT
DTSTART;TZID=UTC:20251023T170000
DTEND;TZID=UTC:20251023T200000
DTSTAMP:20260424T035114
CREATED:20250926T131143Z
LAST-MODIFIED:20250926T131143Z
UID:1444-1761238800-1761249600@adelandfun.ro
SUMMARY:PETRECERE PRIVATĂ
DESCRIPTION:
URL:https://adelandfun.ro/event/petrecere-privata-313/
END:VEVENT
BEGIN:VEVENT
DTSTART;TZID=UTC:20251024T180000
DTEND;TZID=UTC:20251024T210000
DTSTAMP:20260424T035114
CREATED:20250903T144204Z
LAST-MODIFIED:20250903T144204Z
UID:1365-1761328800-1761339600@adelandfun.ro
SUMMARY:PETRECERE PRIVATĂ
DESCRIPTION:
URL:https://adelandfun.ro/event/petrecere-privata-280/
END:VEVENT
BEGIN:VEVENT
DTSTART;TZID=UTC:20251025T100000
DTEND;TZID=UTC:20251025T130000
DTSTAMP:20260424T035114
CREATED:20251008T141819Z
LAST-MODIFIED:20251008T141819Z
UID:1496-1761386400-1761397200@adelandfun.ro
SUMMARY:PETRECERE PRIVATĂ
DESCRIPTION:
URL:https://adelandfun.ro/event/petrecere-privata-329/
END:VEVENT
BEGIN:VEVENT
DTSTART;TZID=UTC:20251025T140000
DTEND;TZID=UTC:20251025T170000
DTSTAMP:20260424T035114
CREATED:20250916T081949Z
LAST-MODIFIED:20250916T081949Z
UID:1404-1761400800-1761411600@adelandfun.ro
SUMMARY:PETRECERE PRIVATĂ
DESCRIPTION:
URL:https://adelandfun.ro/event/petrecere-privata-296/
END:VEVENT
BEGIN:VEVENT
DTSTART;TZID=UTC:20251025T180000
DTEND;TZID=UTC:20251025T210000
DTSTAMP:20260424T035114
CREATED:20251009T115608Z
LAST-MODIFIED:20251009T115608Z
UID:1504-1761415200-1761426000@adelandfun.ro
SUMMARY:PETRECERE PRIVATĂ
DESCRIPTION:
URL:https://adelandfun.ro/event/petrecere-privata-332/
END:VEVENT
BEGIN:VEVENT
DTSTART;TZID=UTC:20251026T100000
DTEND;TZID=UTC:20251026T130000
DTSTAMP:20260424T035114
CREATED:20251016T095656Z
LAST-MODIFIED:20251016T095656Z
UID:1521-1761472800-1761483600@adelandfun.ro
SUMMARY:PETRECERE PRIVATĂ
DESCRIPTION:
URL:https://adelandfun.ro/event/petrecere-privata-339/
END:VEVENT
BEGIN:VEVENT
DTSTART;TZID=UTC:20251026T140000
DTEND;TZID=UTC:20251026T170000
DTSTAMP:20260424T035114
CREATED:20251010T081636Z
LAST-MODIFIED:20251010T081636Z
UID:1509-1761487200-1761498000@adelandfun.ro
SUMMARY:PETRECERE PRIVATĂ
DESCRIPTION:
URL:https://adelandfun.ro/event/petrecere-privata-334/
END:VEVENT
BEGIN:VEVENT
DTSTART;TZID=UTC:20251026T180000
DTEND;TZID=UTC:20251026T210000
DTSTAMP:20260424T035114
CREATED:20251013T094304Z
LAST-MODIFIED:20251013T094304Z
UID:1515-1761501600-1761512400@adelandfun.ro
SUMMARY:PETRECERE PRIVATĂ
DESCRIPTION:
URL:https://adelandfun.ro/event/petrecere-privata-336/
END:VEVENT
BEGIN:VEVENT
DTSTART;TZID=UTC:20251027T173000
DTEND;TZID=UTC:20251027T203000
DTSTAMP:20260424T035114
CREATED:20250926T105430Z
LAST-MODIFIED:20250926T105430Z
UID:1440-1761586200-1761597000@adelandfun.ro
SUMMARY:PETRECERE PRIVATĂ
DESCRIPTION:
URL:https://adelandfun.ro/event/petrecere-privata-311/
END:VEVENT
BEGIN:VEVENT
DTSTART;TZID=UTC:20251030T180000
DTEND;TZID=UTC:20251030T210000
DTSTAMP:20260424T035114
CREATED:20251004T113028Z
LAST-MODIFIED:20251004T113028Z
UID:1463-1761847200-1761858000@adelandfun.ro
SUMMARY:PETRECERE PRIVATĂ
DESCRIPTION:
URL:https://adelandfun.ro/event/petrecere-privata-322/
END:VEVENT
BEGIN:VEVENT
DTSTART;TZID=UTC:20251031T180000
DTEND;TZID=UTC:20251031T210000
DTSTAMP:20260424T035114
CREATED:20251004T113145Z
LAST-MODIFIED:20251004T113145Z
UID:1465-1761933600-1761944400@adelandfun.ro
SUMMARY:PETRECERE PRIVATĂ
DESCRIPTION:
URL:https://adelandfun.ro/event/petrecere-privata-323/
END:VEVENT
BEGIN:VEVENT
DTSTART;TZID=UTC:20251101T100000
DTEND;TZID=UTC:20251101T130000
DTSTAMP:20260424T035114
CREATED:20251011T092008Z
LAST-MODIFIED:20251011T092008Z
UID:1511-1761991200-1762002000@adelandfun.ro
SUMMARY:PETRECERE PRIVATĂ
DESCRIPTION:
URL:https://adelandfun.ro/event/petrecere-privata-335/
END:VEVENT
BEGIN:VEVENT
DTSTART;TZID=UTC:20251101T180000
DTEND;TZID=UTC:20251101T210000
DTSTAMP:20260424T035114
CREATED:20251019T085841Z
LAST-MODIFIED:20251019T085841Z
UID:1534-1762020000-1762030800@adelandfun.ro
SUMMARY:PETRECERE PRIVATĂ
DESCRIPTION:
URL:https://adelandfun.ro/event/petrecere-privata-345/
END:VEVENT
BEGIN:VEVENT
DTSTART;TZID=UTC:20251102T100000
DTEND;TZID=UTC:20251102T130000
DTSTAMP:20260424T035114
CREATED:20251002T154048Z
LAST-MODIFIED:20251002T154048Z
UID:1457-1762077600-1762088400@adelandfun.ro
SUMMARY:PETRECERE PRIVATĂ
DESCRIPTION:
URL:https://adelandfun.ro/event/petrecere-privata-319/
END:VEVENT
BEGIN:VEVENT
DTSTART;TZID=UTC:20251102T140000
DTEND;TZID=UTC:20251102T170000
DTSTAMP:20260424T035114
CREATED:20251016T095809Z
LAST-MODIFIED:20251016T095809Z
UID:1523-1762092000-1762102800@adelandfun.ro
SUMMARY:PETRECERE PRIVATĂ
DESCRIPTION:
URL:https://adelandfun.ro/event/petrecere-privata-340/
END:VEVENT
END:VCALENDAR